BEGIN:VCALENDAR
VERSION:2.0
PRODID:-//Paint &amp; Pour - ECPv2.0.11//NONSGML v1.0//EN
CALSCALE:GREGORIAN
METHOD:PUBLISH
X-WR-CALNAME:Paint &amp; Pour
X-ORIGINAL-URL:https://thepaintandpour.com
X-WR-CALDESC:Events for Paint &amp; Pour
X-WR-TIMEZONE:America/Detroit
BEGIN:VEVENT
DTSTART;VALUE=DATE-TIME:20180324T120000
DTEND;VALUE=DATE-TIME:20180324T140000.000000
DTSTAMP:20260423T094915
CREATED:20180215T162531
LAST-MODIFIED:20180215T162531
UID:380112-1521892800-@https://thepaintandpour.com
SUMMARY:Art Show at Botsford Commons Paint & Pour - Spring Blaze - Mar 24th 12-2 PM
DESCRIPTION:  Spring Blaze  Art Show at Botsford Commons  PRIVATE PARTY  Learn canvas painting and then tour our show presented by our watercolor\, acrylic\, pastel\, etc...painters. Call Barb Smith at 248-615-2898 for tickets. Open to the public.  Botsford Commons - A Beaumont Community  21300 Archwood Cir  Farmington Hills\, MI 48336  Are YOU interested in having a private party with us?  Paint and Pour offers an incredible new way to spice up your next event. Let our Entertainer/Instructors guide your guests through an evening of art and merriment\, and they’ll be sure to talk about it for weeks! Paint and Pour private parties are great for ANY event\, so don’t hesitate.  Call us at (734) 720-9777 or Contact Us today to schedule your Paint Party!
LOCATION:MI, United States
URL:https://thepaintandpour.com/event/art-show-at-botsford-commons-paint-pour-spring-blaze-mar-24th-12-2-pm/
END:VEVENT
END:VCALENDAR