BEGIN:VCALENDAR
VERSION:2.0
PRODID:-//Paint &amp; Pour - ECPv2.0.11//NONSGML v1.0//EN
CALSCALE:GREGORIAN
METHOD:PUBLISH
X-WR-CALNAME:Paint &amp; Pour
X-ORIGINAL-URL:https://thepaintandpour.com
X-WR-CALDESC:Events for Paint &amp; Pour
X-WR-TIMEZONE:America/Detroit
BEGIN:VEVENT
DTSTART;VALUE=DATE-TIME:20190113T180000
DTEND;VALUE=DATE-TIME:20190113T200000.000000
DTSTAMP:20260423T175207
CREATED:20181109T230603
LAST-MODIFIED:20181109T230603
UID:411036-1547402400-@https://thepaintandpour.com
SUMMARY:Apology Accepted - Jan 13th 6-8 PM
DESCRIPTION:&nbsp;  Apology Accepted
LOCATION:22000 Michigan Ave, Dearborn, MI, 48124, United States
URL:https://thepaintandpour.com/event/apology-accepted-jan-13th-6-8-pm/
END:VEVENT
END:VCALENDAR