BEGIN:VCALENDAR
VERSION:2.0
PRODID:-//Paint &amp; Pour - ECPv2.0.11//NONSGML v1.0//EN
CALSCALE:GREGORIAN
METHOD:PUBLISH
X-WR-CALNAME:Paint &amp; Pour
X-ORIGINAL-URL:https://thepaintandpour.com
X-WR-CALDESC:Events for Paint &amp; Pour
X-WR-TIMEZONE:America/Detroit
BEGIN:VEVENT
DTSTART;VALUE=DATE-TIME:20180602T190000
DTEND;VALUE=DATE-TIME:20180602T210000.000000
DTSTAMP:20260423T111439
CREATED:20180509T190144
LAST-MODIFIED:20180509T190144
UID:391399-1527966000-@https://thepaintandpour.com
SUMMARY:Annette's Birthday Girls Night Out - Paradise Waterfall - Jun 2nd 7-9 PM
DESCRIPTION:  Paradise Waterfall  Annette's Birthday Girls Night Out  PRIVATE PARTY    
LOCATION:22000 Michigan Ave, Dearborn, MI, 48124, United States
URL:https://thepaintandpour.com/event/annettes-birthday-girls-night-out-paradise-waterfall-jun-2nd-7-9-pm/
END:VEVENT
END:VCALENDAR