BEGIN:VCALENDAR
VERSION:2.0
PRODID:-//Paint &amp; Pour - ECPv2.0.11//NONSGML v1.0//EN
CALSCALE:GREGORIAN
METHOD:PUBLISH
X-WR-CALNAME:Paint &amp; Pour
X-ORIGINAL-URL:https://thepaintandpour.com
X-WR-CALDESC:Events for Paint &amp; Pour
X-WR-TIMEZONE:America/Detroit
BEGIN:VEVENT
DTSTART;VALUE=DATE-TIME:20190622T150000
DTEND;VALUE=DATE-TIME:20190622T173000.000000
DTSTAMP:20260419T175949
CREATED:20190408T192156
LAST-MODIFIED:20190625T211600
UID:431685-1561215600-@https://thepaintandpour.com
SUMMARY:Alpine Spring - Jun 22nd 3-5 PM
DESCRIPTION:&nbsp;  Alpine Spring  &nbsp;    &nbsp;
LOCATION:22000 Michigan Ave, Dearborn, MI, 48124, United States
URL:https://thepaintandpour.com/event/alpine-spring-jun-22nd-3-5-pm/
END:VEVENT
END:VCALENDAR