BEGIN:VCALENDAR
VERSION:2.0
PRODID:-//Paint &amp; Pour - ECPv2.0.11//NONSGML v1.0//EN
CALSCALE:GREGORIAN
METHOD:PUBLISH
X-WR-CALNAME:Paint &amp; Pour
X-ORIGINAL-URL:https://thepaintandpour.com
X-WR-CALDESC:Events for Paint &amp; Pour
X-WR-TIMEZONE:America/Detroit
BEGIN:VEVENT
DTSTART;VALUE=DATE-TIME:20181110T153000
DTEND;VALUE=DATE-TIME:20181110T173000.000000
DTSTAMP:20260423T111959
CREATED:20181024T193403
LAST-MODIFIED:20181024T193606
UID:405546-1541863800-@https://thepaintandpour.com
SUMMARY:Alaysia's 11th Birthday - Rainbow Bridge - Nov 10th 3:30-5:30 PM
DESCRIPTION:Rainbow Bridge  Alaysia's 11th Birthday  PRIVATE PARTY
LOCATION:22000 Michigan Ave, Dearborn, MI, 48124, United States
URL:https://thepaintandpour.com/event/alaysias-11th-birthday-rainbow-bridge-nov-10th-330-530-pm/
END:VEVENT
END:VCALENDAR