BEGIN:VCALENDAR
VERSION:2.0
PRODID:-//Paint &amp; Pour - ECPv2.0.11//NONSGML v1.0//EN
CALSCALE:GREGORIAN
METHOD:PUBLISH
X-WR-CALNAME:Paint &amp; Pour
X-ORIGINAL-URL:https://thepaintandpour.com
X-WR-CALDESC:Events for Paint &amp; Pour
X-WR-TIMEZONE:America/Detroit
BEGIN:VEVENT
DTSTART;VALUE=DATE-TIME:20190216T120000
DTEND;VALUE=DATE-TIME:20190216T133000.000000
DTSTAMP:20260424T015348
CREATED:20181214T001552
LAST-MODIFIED:20181214T001552
UID:419567-1550318400-@https://thepaintandpour.com
SUMMARY:(Ages 5+) Kitty Love - Feb 16th 12-1:30 PM
DESCRIPTION:&nbsp;  Kitty Love  Ages 5+  Family Day Painting!  &nbsp;
LOCATION:111 South West St, Brighton, MI, 48116, United States
URL:https://thepaintandpour.com/event/ages-5-kitty-love-feb-16th-12-130-pm/
END:VEVENT
END:VCALENDAR