BEGIN:VCALENDAR
VERSION:2.0
PRODID:-//Paint &amp; Pour - ECPv2.0.11//NONSGML v1.0//EN
CALSCALE:GREGORIAN
METHOD:PUBLISH
X-WR-CALNAME:Paint &amp; Pour
X-ORIGINAL-URL:https://thepaintandpour.com
X-WR-CALDESC:Events for Paint &amp; Pour
X-WR-TIMEZONE:America/Detroit
BEGIN:VEVENT
DTSTART;VALUE=DATE-TIME:20190623T140000
DTEND;VALUE=DATE-TIME:20190623T160000.000000
DTSTAMP:20260424T111036
CREATED:20190411T164117
LAST-MODIFIED:20190411T164117
UID:432064-1561298400-@https://thepaintandpour.com
SUMMARY:(Ages 13+) Owl Be Watchin' - Jun 23rd 2-4 PM
DESCRIPTION:&nbsp;  Owl Be Watchin'  &nbsp;    &nbsp;
LOCATION:5 S Washington St, Ypsilanti, MI, 48197, United States
URL:https://thepaintandpour.com/event/ages-13-owl-be-watchin-jun-23rd-2-4-pm/
END:VEVENT
END:VCALENDAR