BEGIN:VCALENDAR
VERSION:2.0
PRODID:-//Paint &amp; Pour - ECPv2.0.11//NONSGML v1.0//EN
CALSCALE:GREGORIAN
METHOD:PUBLISH
X-WR-CALNAME:Paint &amp; Pour
X-ORIGINAL-URL:https://thepaintandpour.com
X-WR-CALDESC:Events for Paint &amp; Pour
X-WR-TIMEZONE:America/Detroit
BEGIN:VEVENT
DTSTART;VALUE=DATE-TIME:20190406T150000
DTEND;VALUE=DATE-TIME:20190406T170000.000000
DTSTAMP:20260424T011942
CREATED:20190206T233902
LAST-MODIFIED:20190206T233902
UID:425182-1554562800-@https://thepaintandpour.com
SUMMARY:(Ages 13+) Midnight Watcher - Apr 6th 3-5 PM
DESCRIPTION:&nbsp;  Midnight Watcher
LOCATION:111 South West St, Brighton, MI, 48116, United States
URL:https://thepaintandpour.com/event/ages-13-midnight-watcher-apr-6th-3-5-pm/
END:VEVENT
END:VCALENDAR