BEGIN:VCALENDAR
VERSION:2.0
PRODID:-//Paint &amp; Pour - ECPv2.0.11//NONSGML v1.0//EN
CALSCALE:GREGORIAN
METHOD:PUBLISH
X-WR-CALNAME:Paint &amp; Pour
X-ORIGINAL-URL:https://thepaintandpour.com
X-WR-CALDESC:Events for Paint &amp; Pour
X-WR-TIMEZONE:America/Detroit
BEGIN:VEVENT
DTSTART;VALUE=DATE-TIME:20181208T150000
DTEND;VALUE=DATE-TIME:20181208T170000.000000
DTSTAMP:20260423T151450
CREATED:20181014T141525
LAST-MODIFIED:20181130T175119
UID:404553-1544281200-@https://thepaintandpour.com
SUMMARY:(Ages 13+) Foxy - Dec 8th 3-5 PM
DESCRIPTION:&nbsp;  Foxy  &nbsp;    &nbsp;
LOCATION:5 S Washington St, Ypsilanti, MI, 48197, United States
URL:https://thepaintandpour.com/event/ages-13-foxy-dec-8th-3-5-pm/
END:VEVENT
END:VCALENDAR