BEGIN:VCALENDAR
VERSION:2.0
PRODID:-//Paint &amp; Pour - ECPv2.0.11//NONSGML v1.0//EN
CALSCALE:GREGORIAN
METHOD:PUBLISH
X-WR-CALNAME:Paint &amp; Pour
X-ORIGINAL-URL:https://thepaintandpour.com
X-WR-CALDESC:Events for Paint &amp; Pour
X-WR-TIMEZONE:America/Detroit
BEGIN:VEVENT
DTSTART;VALUE=DATE-TIME:20190413T150000
DTEND;VALUE=DATE-TIME:20190413T170000.000000
DTSTAMP:20260423T152726
CREATED:20190213T195817
LAST-MODIFIED:20190213T195818
UID:425935-1555167600-@https://thepaintandpour.com
SUMMARY:(Ages 13+) Evening Serenade - Apr 13th 3-5 PM
DESCRIPTION:&nbsp;  Evening Serenade  &nbsp;    &nbsp;
LOCATION:5 S Washington St, Ypsilanti, MI, 48197, United States
URL:https://thepaintandpour.com/event/ages-13-evening-serenade-apr-13th-3-5-pm/
END:VEVENT
END:VCALENDAR