BEGIN:VCALENDAR
VERSION:2.0
PRODID:-//Paint &amp; Pour - ECPv2.0.11//NONSGML v1.0//EN
CALSCALE:GREGORIAN
METHOD:PUBLISH
X-WR-CALNAME:Paint &amp; Pour
X-ORIGINAL-URL:https://thepaintandpour.com
X-WR-CALDESC:Events for Paint &amp; Pour
X-WR-TIMEZONE:America/Detroit
BEGIN:VEVENT
DTSTART;VALUE=DATE-TIME:20190406T120000
DTEND;VALUE=DATE-TIME:20190406T140000.000000
DTSTAMP:20260423T190838
CREATED:20190203T192051
LAST-MODIFIED:20190203T192051
UID:424856-1554552000-@https://thepaintandpour.com
SUMMARY:(Ages 13+) Cloud Hopper - Apr 6th 12-2 PM
DESCRIPTION:&nbsp;  Cloud Hopper  &nbsp;
LOCATION:22000 Michigan Ave, Dearborn, MI, 48124, United States
URL:https://thepaintandpour.com/event/ages-13-cloud-hopper-apr-6th-12-2-pm/
END:VEVENT
END:VCALENDAR