BEGIN:VCALENDAR
VERSION:2.0
PRODID:-//Paint &amp; Pour - ECPv2.0.11//NONSGML v1.0//EN
CALSCALE:GREGORIAN
METHOD:PUBLISH
X-WR-CALNAME:Paint &amp; Pour
X-ORIGINAL-URL:https://thepaintandpour.com
X-WR-CALDESC:Events for Paint &amp; Pour
X-WR-TIMEZONE:America/Detroit
BEGIN:VEVENT
DTSTART;VALUE=DATE-TIME:20190427T120000
DTEND;VALUE=DATE-TIME:20190427T140000.000000
DTSTAMP:20260424T064035
CREATED:20190401T171745
LAST-MODIFIED:20190426T131057
UID:431056-1556366400-@https://thepaintandpour.com
SUMMARY:Adrianna's 6th Birthday - TBD - Apr 27th 12-2 PM
DESCRIPTION:TBD  Adrianna's 6th Birthday  PRIVATE PARTY
LOCATION:22000 Michigan Ave, Dearborn, MI, 48124, United States
URL:https://thepaintandpour.com/event/adriannas-6th-birthday-tbd-apr-27th-12-2-pm/
END:VEVENT
END:VCALENDAR