BEGIN:VCALENDAR
VERSION:2.0
PRODID:-//Paint &amp; Pour - ECPv2.0.11//NONSGML v1.0//EN
CALSCALE:GREGORIAN
METHOD:PUBLISH
X-WR-CALNAME:Paint &amp; Pour
X-ORIGINAL-URL:https://thepaintandpour.com
X-WR-CALDESC:Events for Paint &amp; Pour
X-WR-TIMEZONE:America/Detroit
BEGIN:VEVENT
DTSTART;VALUE=DATE-TIME:20190424T130000
DTEND;VALUE=DATE-TIME:20190424T160000.000000
DTSTAMP:20260424T001231
CREATED:20190301T141655
LAST-MODIFIED:20190422T143500
UID:427488-1556110800-@https://thepaintandpour.com
SUMMARY:Administrative Assistant Get-A-Way - May Forest - Apr 24th 1-4 PM
DESCRIPTION:  May Forest  Administrative Assitant Get-A-Way  PRIVATE PARTY  
LOCATION:111 South West St, Brighton, MI, 48116, United States
URL:https://thepaintandpour.com/event/administrative-assistant-get-a-way-may-forest-apr-24th-1-4-pm-2/
END:VEVENT
END:VCALENDAR