BEGIN:VCALENDAR
VERSION:2.0
PRODID:-//Paint &amp; Pour - ECPv2.0.11//NONSGML v1.0//EN
CALSCALE:GREGORIAN
METHOD:PUBLISH
X-WR-CALNAME:Paint &amp; Pour
X-ORIGINAL-URL:https://thepaintandpour.com
X-WR-CALDESC:Events for Paint &amp; Pour
X-WR-TIMEZONE:America/Detroit
BEGIN:VEVENT
DTSTART;VALUE=DATE-TIME:20191125T180000
DTEND;VALUE=DATE-TIME:20191125T200000.000000
DTSTAMP:20260425T001528
CREATED:20190925T001643
LAST-MODIFIED:20190925T001643
UID:534346-1574704800-@https://thepaintandpour.com
SUMMARY:A River Runs Through It - Nov 25th 6-8 PM
DESCRIPTION:&nbsp;  A River Runs Through It  &nbsp;
LOCATION:5 S Washington St, Ypsilanti, MI, 48197, United States
URL:https://thepaintandpour.com/event/a-river-runs-through-it-nov-25th-6-8-pm/
END:VEVENT
END:VCALENDAR